BEGIN:VCALENDAR
VERSION:2.0
PRODID:-//Toronto Songwriting School - ECPv6.15.13//NONSGML v1.0//EN
CALSCALE:GREGORIAN
METHOD:PUBLISH
X-WR-CALNAME:Toronto Songwriting School
X-ORIGINAL-URL:https://torontosongwritingschool.com
X-WR-CALDESC:Events for Toronto Songwriting School
REFRESH-INTERVAL;VALUE=DURATION:PT1H
X-Robots-Tag:noindex
X-PUBLISHED-TTL:PT1H
BEGIN:VTIMEZONE
TZID:America/Toronto
BEGIN:DAYLIGHT
TZOFFSETFROM:-0500
TZOFFSETTO:-0400
TZNAME:EDT
DTSTART:20240310T070000
END:DAYLIGHT
BEGIN:STANDARD
TZOFFSETFROM:-0400
TZOFFSETTO:-0500
TZNAME:EST
DTSTART:20241103T060000
END:STANDARD
BEGIN:DAYLIGHT
TZOFFSETFROM:-0500
TZOFFSETTO:-0400
TZNAME:EDT
DTSTART:20250309T070000
END:DAYLIGHT
BEGIN:STANDARD
TZOFFSETFROM:-0400
TZOFFSETTO:-0500
TZNAME:EST
DTSTART:20251102T060000
END:STANDARD
BEGIN:DAYLIGHT
TZOFFSETFROM:-0500
TZOFFSETTO:-0400
TZNAME:EDT
DTSTART:20260308T070000
END:DAYLIGHT
BEGIN:STANDARD
TZOFFSETFROM:-0400
TZOFFSETTO:-0500
TZNAME:EST
DTSTART:20261101T060000
END:STANDARD
END:VTIMEZONE
BEGIN:VEVENT
DTSTART;VALUE=DATE:20250322
DTEND;VALUE=DATE:20250326
DTSTAMP:20260423T213700
CREATED:20241216T144228Z
LAST-MODIFIED:20241216T145024Z
UID:3009-1742601600-1742947199@torontosongwritingschool.com
SUMMARY:Nashville Songwriter Getaway
DESCRIPTION:Nashville calls itself “Music City” for a reason. With close to 200 music venues\, over 180 recording studios\, and 5\,000 working musicians\, it’s impossible to walk around downtown and not hear live music filling the air. This March\, our guests will find inspiration for their own songwriting in 5 days and 4 nights of the best of Nashville’s past and present. \nThis Nashville Songwriter Getaway will take place March 22-25\, 2025. \nLearn more and register for the Nashville Songwriter Getaway
URL:https://torontosongwritingschool.com/event/nashville-songwriter-getaway/
LOCATION:Johnson-Robinson House\, 1003 18th Ave S\, Nashville\, 37212\, United States
CATEGORIES:Songwriter Getaway,Special Events
ATTACH;FMTTYPE=image/jpeg:https://torontosongwritingschool.com/wp-content/uploads/2023/12/Why_is_Nashville_Called_Music_City_01.jpg
ORGANIZER;CN="Toronto Songwriting School":MAILTO:office@torontosongwritingschool.com
END:VEVENT
END:VCALENDAR