BEGIN:VCALENDAR
VERSION:2.0
PRODID:-//Toronto Songwriting School - ECPv6.15.13//NONSGML v1.0//EN
CALSCALE:GREGORIAN
METHOD:PUBLISH
X-WR-CALNAME:Toronto Songwriting School
X-ORIGINAL-URL:https://torontosongwritingschool.com
X-WR-CALDESC:Events for Toronto Songwriting School
REFRESH-INTERVAL;VALUE=DURATION:PT1H
X-Robots-Tag:noindex
X-PUBLISHED-TTL:PT1H
BEGIN:VTIMEZONE
TZID:UTC
BEGIN:STANDARD
TZOFFSETFROM:+0000
TZOFFSETTO:+0000
TZNAME:UTC
DTSTART:20190101T000000
END:STANDARD
END:VTIMEZONE
BEGIN:VEVENT
DTSTART;TZID=UTC:20200712T190000
DTEND;TZID=UTC:20200823T203000
DTSTAMP:20260425T220023
CREATED:20200617T070524Z
LAST-MODIFIED:20200813T135630Z
UID:268-1594580400-1598214600@torontosongwritingschool.com
SUMMARY:Songwriting Masterclass Series
DESCRIPTION:This summer\, Toronto Songwriting School invites some of the best songwriters in North America to present a Songwriting Masterclass at 7pm EDT every other week on Facebook Live.\nOur Songwriting Masterclass lineup includes Colleen Dauncey\, Erin McKeown\, Dan Bern\, and Julian Taylor. Each will lead their own masterclass\, and then we’ll open the comments section for a live Q&A. For those who may not know all of these names\, let’s do a quick introduction.\nJuly 12 – Colleen Dauncey\nColleen Dauncey (full bio) is a Canadian musical theatre powerhouse who is best known for her musicals Going Under\, Bremen Rock City\, Rumspringa Break!\, and Prom Queen: The Musical (recipient of the 2016 Stage West Pechet Family Musical Award). But don’t put her in a box. In addition to her musical theatre work\, her songs have been featured in movies\, television\, and most recently\, the 2020 web series Avocado Toast. RSVP to her July 12th Masterclass.\nJuly 26 – Erin McKeown\nErin McKeown (full bio) is a musician\, writer\, and producer known internationally for her prolific disregard of stylistic boundaries. Over the last 20 years\, she has performed around the world\, released 10 full length albums\, and written for film\, television\, and theater\, all the while refining her distinctive and challenging mix of American musical forms. Her first musical\, Miss You Like Hell\, written with Pulitzer Prize-winning playwright Quiara Alegría Hudes\, opened Off-Broadway at The Public Theater in 2018. It was nominated for 5 Drama Desk Awards\, including Best Lyrics\, Best Music and Best Orchestrations\, and The Wall Street Journal named it Best Musical of 2018. RSVP to her July 26th Masterclass.\nAugust 9 – Dan Bern\nDan Bern (full bio) may be best-known for his songwriting masterpieces like “Jerusalem\,” “Marilyn\,” “Tiger Woods” and “God Said No\,” but he has also released 25 albums and EPs\, and played thousands of shows across North America and Europe.  He is a captivating live performer with a loyal\, multi-generational following. His songs have appeared in numerous films and TV shows including films Walk Hard — The Dewey Cox Story and Get Him to the Greek\, and the Amazon Prime kids program\, The Stinky and Dirty Show. RSVP to his August 9th Masterclass.\nAugust 23 – Julian Taylor\nJulian Taylor (full bio) doesn’t fit in a box. A Toronto music scene staple and a musical chameleon\, he is used to shaking it up over the course of 10 albums in the last two decades. Of West Indian and Mohawk descent\, Taylor first made his name as frontman of Staggered Crossing\, a Canadian rock radio staple in the early 2000s. Despite being released in a pandemic\, his latest solo album The Ridge has been featured in American Songwriter and is already receiving rave reviews worldwide. RSVP to his August 23rd Masterclass.\nWith tours cancelled and businesses shuttered\, we know these are difficult times personally and financially for many people. It’s a difficult time for us. It’s a difficult time for our Masterclass instructors. And it’s a difficult time for many of you. Because of this\, we’ve decided to make the Masterclass a Pay-What-You-Can event. Throughout each class\, there will be information on how to donate to that week’s instructor. You can also donate by clicking the donate button and selecting the Masterclass presenter you would like to support. Thanks to the generosity of the SOCAN Foundation\, we’re able to pay each instructor a stipend for their time\, but your donations will make it closer to what they actually deserve for sharing their wisdom and expertise.\n\n\n\n\nWe’re excited to be able to bring this Songwriting Masterclass Series to you. Each has their own unique style of songwriting\, and there’s a lot we can learn from them so be sure to tune in each week to add their insights to your songwriting toolbox.\n\nSongwriting Masterclass Series Sponsor\nPresented with support from SOCAN Foundation.
URL:https://torontosongwritingschool.com/event/songwriting-masterclass-series/
LOCATION:Facebook Live
CATEGORIES:Songwriter Masterclass,Special Events
ATTACH;FMTTYPE=image/png:https://torontosongwritingschool.com/wp-content/uploads/2020/06/website-slider.png
ORGANIZER;CN="Toronto Songwriting School":MAILTO:office@torontosongwritingschool.com
END:VEVENT
END:VCALENDAR