BEGIN:VCALENDAR
VERSION:2.0
PRODID:-//Toronto Songwriting School - ECPv6.15.13//NONSGML v1.0//EN
CALSCALE:GREGORIAN
METHOD:PUBLISH
X-WR-CALNAME:Toronto Songwriting School
X-ORIGINAL-URL:https://torontosongwritingschool.com
X-WR-CALDESC:Events for Toronto Songwriting School
REFRESH-INTERVAL;VALUE=DURATION:PT1H
X-Robots-Tag:noindex
X-PUBLISHED-TTL:PT1H
BEGIN:VTIMEZONE
TZID:America/Toronto
BEGIN:DAYLIGHT
TZOFFSETFROM:-0500
TZOFFSETTO:-0400
TZNAME:EDT
DTSTART:20250309T070000
END:DAYLIGHT
BEGIN:STANDARD
TZOFFSETFROM:-0400
TZOFFSETTO:-0500
TZNAME:EST
DTSTART:20251102T060000
END:STANDARD
BEGIN:DAYLIGHT
TZOFFSETFROM:-0500
TZOFFSETTO:-0400
TZNAME:EDT
DTSTART:20260308T070000
END:DAYLIGHT
BEGIN:STANDARD
TZOFFSETFROM:-0400
TZOFFSETTO:-0500
TZNAME:EST
DTSTART:20261101T060000
END:STANDARD
BEGIN:DAYLIGHT
TZOFFSETFROM:-0500
TZOFFSETTO:-0400
TZNAME:EDT
DTSTART:20270314T070000
END:DAYLIGHT
BEGIN:STANDARD
TZOFFSETFROM:-0400
TZOFFSETTO:-0500
TZNAME:EST
DTSTART:20271107T060000
END:STANDARD
END:VTIMEZONE
BEGIN:VEVENT
DTSTART;TZID=America/Toronto:20260617T150000
DTEND;TZID=America/Toronto:20260620T200000
DTSTAMP:20260421T093945
CREATED:20230614T215949Z
LAST-MODIFIED:20260203T180942Z
UID:2756-1781708400-1781985600@torontosongwritingschool.com
SUMMARY:Newfoundland Songwriter Getaway
DESCRIPTION:Join us in the musical city of St. John’s\, NL for a songwriter getaway with workshops\, special guests\, sightseeing\, and inspiration from the city’s dynamic music scene. All meals provided. \nThe Newfoundland Songwriter Getaway will take place June 17-21\, 2026 in St. John’s\, NL. \nLearn more and register for the Newfoundland Songwriter Getaway
URL:https://torontosongwritingschool.com/event/newfoundland-2026/
LOCATION:St. John’s\, Newfoundland\, St. John's\, NL\, Canada
CATEGORIES:Songwriter Getaway,Special Events
ORGANIZER;CN="Toronto Songwriting School":MAILTO:office@torontosongwritingschool.com
END:VEVENT
END:VCALENDAR