BEGIN:VCALENDAR
VERSION:2.0
PRODID:-//Toronto Songwriting School - ECPv6.15.13//NONSGML v1.0//EN
CALSCALE:GREGORIAN
METHOD:PUBLISH
X-WR-CALNAME:Toronto Songwriting School
X-ORIGINAL-URL:https://torontosongwritingschool.com
X-WR-CALDESC:Events for Toronto Songwriting School
REFRESH-INTERVAL;VALUE=DURATION:PT1H
X-Robots-Tag:noindex
X-PUBLISHED-TTL:PT1H
BEGIN:VTIMEZONE
TZID:America/Toronto
BEGIN:DAYLIGHT
TZOFFSETFROM:-0500
TZOFFSETTO:-0400
TZNAME:EDT
DTSTART:20210314T070000
END:DAYLIGHT
BEGIN:STANDARD
TZOFFSETFROM:-0400
TZOFFSETTO:-0500
TZNAME:EST
DTSTART:20211107T060000
END:STANDARD
BEGIN:DAYLIGHT
TZOFFSETFROM:-0500
TZOFFSETTO:-0400
TZNAME:EDT
DTSTART:20220313T070000
END:DAYLIGHT
BEGIN:STANDARD
TZOFFSETFROM:-0400
TZOFFSETTO:-0500
TZNAME:EST
DTSTART:20221106T060000
END:STANDARD
BEGIN:DAYLIGHT
TZOFFSETFROM:-0500
TZOFFSETTO:-0400
TZNAME:EDT
DTSTART:20230312T070000
END:DAYLIGHT
BEGIN:STANDARD
TZOFFSETFROM:-0400
TZOFFSETTO:-0500
TZNAME:EST
DTSTART:20231105T060000
END:STANDARD
END:VTIMEZONE
BEGIN:VEVENT
DTSTART;TZID=America/Toronto:20221104T150000
DTEND;TZID=America/Toronto:20221106T100000
DTSTAMP:20260425T152652
CREATED:20220929T235847Z
LAST-MODIFIED:20220929T235847Z
UID:1978-1667574000-1667728800@torontosongwritingschool.com
SUMMARY:Fall Songwriter Getaway
DESCRIPTION:Take a break from daily life for a country songwriting retreat with songwriting workshops during the day and campfire singalongs under the stars each night. \nBordering the Macaulay Mountain Conservation Area\, our five-acre property includes hammocks\, fire pits\, and an outdoor wood-burning cedar sauna that songwriters are welcome to use. \nOur Songwriter Getaways always have a great mix of returning songwriters and new guests who enjoy the welcoming and supportive environment. We welcome songwriters of all levels from total beginners to seasoned pros. You’ll head home from the songwriting retreat with new insights on your songwriting process\, professional feedback on your original songs\, and a new connection to an encouraging songwriter community. \nOur Ontario songwriting retreats always sell out\, so be sure to register early to make sure you can join us for this inspiring weekend. \nLearn more and register for the Fall Songwriter Getaway.
URL:https://torontosongwritingschool.com/event/fall-songwriter-getaway-2/
LOCATION:Prince Edward County Retreat House\, 193 Clarke Road\, Prince Edward\, ON\, K0K 2T0\, Canada
CATEGORIES:Songwriter Getaway,Special Events
ORGANIZER;CN="Toronto Songwriting School":MAILTO:office@torontosongwritingschool.com
END:VEVENT
END:VCALENDAR